BEGIN:VCALENDAR
VERSION:2.0
PRODID:-//Geethanjali
CALSCALE:GREGORIAN
METHOD:PUBLISH
X-WR-CALNAME:Geethanjali
X-ORIGINAL-URL:https://gist.edu.in/gist/event/report-on-a-five-day-workshop-on-value-added-course-on-programming-in-modern-c/
X-WR-CALDESC:Report on a Five Day Workshop on “Value Added Course on Programming in Modern C++”
BEGIN:VEVENT
DTSTART:
DTEND:
SUMMARY:Report on a Five Day Workshop on “Value Added Course on Programming in Modern C++”
DESCRIPTION:Report on a Five Day Workshop on

“Value Added Course on Programming in Modern C++”
LOCATION:
END:VEVENT
END:VCALENDAR
