BEGIN:VCALENDAR
VERSION:2.0
PRODID:-//Geethanjali
CALSCALE:GREGORIAN
METHOD:PUBLISH
X-WR-CALNAME:Geethanjali
X-ORIGINAL-URL:https://gist.edu.in/gist/event/report-on-industry-visited-gowri-software-solutionsbangalore/
X-WR-CALDESC:Report on  Industry Visited: Gowri Software Solutions:Bangalore 
BEGIN:VEVENT
DTSTART:
DTEND:
SUMMARY:Report on  Industry Visited: Gowri Software Solutions:Bangalore 
DESCRIPTION:Report on

Industry Visited: Gowri Software Solutions:Bangalore 
LOCATION:
END:VEVENT
END:VCALENDAR
