BEGIN:VCALENDAR
VERSION:2.0
PRODID:-//Geethanjali
CALSCALE:GREGORIAN
METHOD:PUBLISH
X-WR-CALNAME:Geethanjali
X-ORIGINAL-URL:https://gist.edu.in/gist/event/report-on-womens-health-awareness-program/
X-WR-CALDESC:Report on- “Women’s Health Awareness Program”
BEGIN:VEVENT
DTSTART:
DTEND:
SUMMARY:Report on- “Women’s Health Awareness Program”
DESCRIPTION:Report on- “Women’s Health Awareness Program”
LOCATION:
END:VEVENT
END:VCALENDAR
