BEGIN:VCALENDAR
VERSION:2.0
PRODID:-//Geethanjali
CALSCALE:GREGORIAN
METHOD:PUBLISH
X-WR-CALNAME:Geethanjali
X-ORIGINAL-URL:https://gist.edu.in/gist/event/report-on-health-awareness-programme-on-hormonal-imbalance/
X-WR-CALDESC:Report on- “Health Awareness Programme on Hormonal Imbalance”
BEGIN:VEVENT
DTSTART:
DTEND:
SUMMARY:Report on- “Health Awareness Programme on Hormonal Imbalance”
DESCRIPTION:Report on- “Health Awareness Programme on Hormonal Imbalance”
LOCATION:
END:VEVENT
END:VCALENDAR
