BEGIN:VCALENDAR
VERSION:2.0
PRODID:-//Geethanjali
CALSCALE:GREGORIAN
METHOD:PUBLISH
X-WR-CALNAME:Geethanjali
X-ORIGINAL-URL:https://gist.edu.in/gist/event/areportofone-week-value-addedcourse-on-non-destructivetestingndt/
X-WR-CALDESC:AReportofOne-week  Value addedcourse On  NON-DESTRUCTIVETESTING(NDT)
BEGIN:VEVENT
DTSTART:
DTEND:
SUMMARY:AReportofOne-week  Value addedcourse On  NON-DESTRUCTIVETESTING(NDT)
DESCRIPTION:AReportofOne-week  Value addedcourse On

NON-DESTRUCTIVETESTING(NDT)
LOCATION:
END:VEVENT
END:VCALENDAR
