BEGIN:VCALENDAR
VERSION:2.0
PRODID:-//Geethanjali
CALSCALE:GREGORIAN
METHOD:PUBLISH
X-WR-CALNAME:Geethanjali
X-ORIGINAL-URL:https://gist.edu.in/gist/event/report-on-srujana-2k23-a-one-day-national-level-symposium/
X-WR-CALDESC:Report on SRUJANA 2K23 A one day National Level Symposium
BEGIN:VEVENT
DTSTART:
DTEND:
SUMMARY:Report on SRUJANA 2K23 A one day National Level Symposium
DESCRIPTION:Report on SRUJANA 2K23 A one day National Level Symposium
LOCATION:
END:VEVENT
END:VCALENDAR
