BEGIN:VCALENDAR
VERSION:2.0
PRODID:-//Geethanjali
CALSCALE:GREGORIAN
METHOD:PUBLISH
X-WR-CALNAME:Geethanjali
X-ORIGINAL-URL:https://gist.edu.in/gist/event/a-report-on-six-days-workshop-on-embedded-system-with-arduino/
X-WR-CALDESC:A Report on Six Days Workshop on Embedded System- with Arduino
BEGIN:VEVENT
DTSTART:
DTEND:
SUMMARY:A Report on Six Days Workshop on Embedded System- with Arduino
DESCRIPTION:A Report on Six Days Workshop on Embedded System- with Arduino
LOCATION:
END:VEVENT
END:VCALENDAR
