BEGIN:VCALENDAR
VERSION:2.0
PRODID:-//Geethanjali
CALSCALE:GREGORIAN
METHOD:PUBLISH
X-WR-CALNAME:Geethanjali
X-ORIGINAL-URL:https://gist.edu.in/gist/event/report-on-a-five-day-fdpon-python-and-its-applications/
X-WR-CALDESC:Report on A Five-Day FDPon “Python and its Applications”
BEGIN:VEVENT
DTSTART:
DTEND:
SUMMARY:Report on A Five-Day FDPon “Python and its Applications”
DESCRIPTION:Report on A Five-Day FDPon “Python and its Applications”
LOCATION:
END:VEVENT
END:VCALENDAR
