BEGIN:VCALENDAR
VERSION:2.0
PRODID:-//Geethanjali
CALSCALE:GREGORIAN
METHOD:PUBLISH
X-WR-CALNAME:Geethanjali
X-ORIGINAL-URL:https://gist.edu.in/gist/event/report-on-parents-teachers-meeting/
X-WR-CALDESC:REPORT ON PARENTS-TEACHERS MEETING
BEGIN:VEVENT
DTSTART:
DTEND:
SUMMARY:REPORT ON PARENTS-TEACHERS MEETING
DESCRIPTION:REPORT ON PARENTS-TEACHERS MEETING
LOCATION:
END:VEVENT
END:VCALENDAR
