BEGIN:VCALENDAR
VERSION:2.0
PRODID:-//Geethanjali
CALSCALE:GREGORIAN
METHOD:PUBLISH
X-WR-CALNAME:Geethanjali
X-ORIGINAL-URL:https://gist.edu.in/gist/event/emerging-trends-in-vlsi-design/
X-WR-CALDESC:Emerging trends in VLSI Design
BEGIN:VEVENT
DTSTART:
DTEND:
SUMMARY:Emerging trends in VLSI Design
DESCRIPTION:Emerging trends in VLSI Design
LOCATION:
END:VEVENT
END:VCALENDAR
