BEGIN:VCALENDAR
VERSION:2.0
PRODID:-//Geethanjali
CALSCALE:GREGORIAN
METHOD:PUBLISH
X-WR-CALNAME:Geethanjali
X-ORIGINAL-URL:https://gist.edu.in/gist/event/emerging-trends-in-communication-systems-and-signal-processing/
X-WR-CALDESC:Emerging trends in Communication Systems and Signal Processing
BEGIN:VEVENT
DTSTART:
DTEND:
SUMMARY:Emerging trends in Communication Systems and Signal Processing
DESCRIPTION:Emerging trends in Communication Systems and Signal Processing
LOCATION:
END:VEVENT
END:VCALENDAR
