BEGIN:VCALENDAR
VERSION:2.0
PRODID:-//Geethanjali
CALSCALE:GREGORIAN
METHOD:PUBLISH
X-WR-CALNAME:Geethanjali
X-ORIGINAL-URL:https://gist.edu.in/gist/event/emerging-trends-in-iot-embedded-systems/
X-WR-CALDESC:Emerging trends in Iot &#038; Embedded Systems
BEGIN:VEVENT
DTSTART:
DTEND:
SUMMARY:Emerging trends in Iot &#038; Embedded Systems
DESCRIPTION:Emerging trends in Iot & Embedded Systems
LOCATION:
END:VEVENT
END:VCALENDAR
