BEGIN:VCALENDAR
VERSION:2.0
PRODID:-//Geethanjali
CALSCALE:GREGORIAN
METHOD:PUBLISH
X-WR-CALNAME:Geethanjali
X-ORIGINAL-URL:https://gist.edu.in/gist/event/report-on-guest-lecture-on-power-generationtransmission-and-distribution/
X-WR-CALDESC:Report On Guest Lecture On “Power Generation,Transmission  and Distribution”
BEGIN:VEVENT
DTSTART:
DTEND:
SUMMARY:Report On Guest Lecture On “Power Generation,Transmission  and Distribution”
DESCRIPTION:Report On Guest Lecture On “Power Generation,Transmission  and Distribution”
LOCATION:
END:VEVENT
END:VCALENDAR
