BEGIN:VCALENDAR
VERSION:2.0
PRODID:-//Geethanjali
CALSCALE:GREGORIAN
METHOD:PUBLISH
X-WR-CALNAME:Geethanjali
X-ORIGINAL-URL:https://gist.edu.in/gist/event/guest-lecture-on-strategies-for-academic-project-success-and-paper-publishing/
X-WR-CALDESC:Guest Lecture on  “Strategies for Academic Project Success and Paper Publishing”
BEGIN:VEVENT
DTSTART:
DTEND:
SUMMARY:Guest Lecture on  “Strategies for Academic Project Success and Paper Publishing”
DESCRIPTION:Guest Lecture on  “Strategies for Academic Project Success and Paper Publishing”
LOCATION:
END:VEVENT
END:VCALENDAR
