BEGIN:VCALENDAR
VERSION:2.0
PRODID:-//Geethanjali
CALSCALE:GREGORIAN
METHOD:PUBLISH
X-WR-CALNAME:Geethanjali
X-ORIGINAL-URL:https://gist.edu.in/gist/event/report-on-a-five-day-workshop-on-reactjs/
X-WR-CALDESC:Report on A Five-Day Workshop on “ReactJS”
BEGIN:VEVENT
DTSTART:
DTEND:
SUMMARY:Report on A Five-Day Workshop on “ReactJS”
DESCRIPTION:Report on A Five-Day Workshop on “ReactJS”
LOCATION:
END:VEVENT
END:VCALENDAR
