BEGIN:VCALENDAR
VERSION:2.0
PRODID:-//Geethanjali
CALSCALE:GREGORIAN
METHOD:PUBLISH
X-WR-CALNAME:Geethanjali
X-ORIGINAL-URL:https://gist.edu.in/gist/event/report-on-guest-lecture-on-awareness-on-aimldl-applications/
X-WR-CALDESC:Report on Guest lecture On Awareness on AI,ML,DL Applications
BEGIN:VEVENT
DTSTART:
DTEND:
SUMMARY:Report on Guest lecture On Awareness on AI,ML,DL Applications
DESCRIPTION:Report on Guest lecture On Awareness on AI,ML,DL Applications
LOCATION:
END:VEVENT
END:VCALENDAR
