BEGIN:VCALENDAR
VERSION:2.0
PRODID:-//Geethanjali
CALSCALE:GREGORIAN
METHOD:PUBLISH
X-WR-CALNAME:Geethanjali
X-ORIGINAL-URL:https://gist.edu.in/gist/event/report-on-freshers-day-celebrations-2022-23-on-7th-january-2023/
X-WR-CALDESC:Report on Freshers Day celebrations 2022-23 on 7th January-2023
BEGIN:VEVENT
DTSTART:
DTEND:
SUMMARY:Report on Freshers Day celebrations 2022-23 on 7th January-2023
DESCRIPTION:Report on Freshers Day celebrations 2022-23 on 7th January-2023
LOCATION:
END:VEVENT
END:VCALENDAR
