BEGIN:VCALENDAR
VERSION:2.0
PRODID:-//Geethanjali
CALSCALE:GREGORIAN
METHOD:PUBLISH
X-WR-CALNAME:Geethanjali
X-ORIGINAL-URL:https://gist.edu.in/gist/event/report-on-a-five-day-workshop-on-building-applications-with-python/
X-WR-CALDESC:Report on A Five Day Workshop on “Building Applications with Python”
BEGIN:VEVENT
DTSTART:
DTEND:
SUMMARY:Report on A Five Day Workshop on “Building Applications with Python”
DESCRIPTION:Report on A Five Day Workshop on “Building Applications with Python”
LOCATION:
END:VEVENT
END:VCALENDAR
