BEGIN:VCALENDAR
VERSION:2.0
PRODID:-//Geethanjali
CALSCALE:GREGORIAN
METHOD:PUBLISH
X-WR-CALNAME:Geethanjali
X-ORIGINAL-URL:https://gist.edu.in/gist/event/prasara-barathi-doordarshan-kendra-tirupati-on-30-04-2022/
X-WR-CALDESC:PRASARA BARATHI DOORDARSHAN KENDRA TIRUPATI on 30.04.2022
BEGIN:VEVENT
DTSTART:
DTEND:
SUMMARY:PRASARA BARATHI DOORDARSHAN KENDRA TIRUPATI on 30.04.2022
DESCRIPTION:PRASARA BARATHI DOORDARSHAN KENDRA TIRUPATI on 30.04.2022
LOCATION:
END:VEVENT
END:VCALENDAR
