BEGIN:VCALENDAR
VERSION:2.0
PRODID:-//Geethanjali
CALSCALE:GREGORIAN
METHOD:PUBLISH
X-WR-CALNAME:Geethanjali
X-ORIGINAL-URL:https://gist.edu.in/gist/event/a-report-on-industrial-visit-to-weber-india-infra-power-opc-pvt-ltd/
X-WR-CALDESC:A Report on “Industrial Visit to Weber India Infra Power (OPC) Pvt Ltd”
BEGIN:VEVENT
DTSTART:
DTEND:
SUMMARY:A Report on “Industrial Visit to Weber India Infra Power (OPC) Pvt Ltd”
DESCRIPTION:A Report on “Industrial Visit to Weber India Infra Power (OPC) Pvt Ltd”
LOCATION:
END:VEVENT
END:VCALENDAR
