BEGIN:VCALENDAR
VERSION:2.0
PRODID:-//Geethanjali
CALSCALE:GREGORIAN
METHOD:PUBLISH
X-WR-CALNAME:Geethanjali
X-ORIGINAL-URL:https://gist.edu.in/gist/event/apssdc-one-week-workshop-on-structural-analysis-using-etabs-software/
X-WR-CALDESC:APSSDC ONE WEEK  WORKSHOP ON “Structural Analysis  USING ETABS” SOFTWARE
BEGIN:VEVENT
DTSTART:
DTEND:
SUMMARY:APSSDC ONE WEEK  WORKSHOP ON “Structural Analysis  USING ETABS” SOFTWARE
DESCRIPTION:APSSDC ONE WEEK  WORKSHOP ON “Structural Analysis USING ETABS” SOFTWARE
LOCATION:
END:VEVENT
END:VCALENDAR
