BEGIN:VCALENDAR
VERSION:2.0
PRODID:-//Geethanjali
CALSCALE:GREGORIAN
METHOD:PUBLISH
X-WR-CALNAME:Geethanjali
X-ORIGINAL-URL:https://gist.edu.in/gist/event/a-report-on-donation-of-eco-friendly-ganesh-idols-to-faculty/
X-WR-CALDESC:A Report on Donation of Eco-Friendly Ganesh Idols to Faculty
BEGIN:VEVENT
DTSTART:
DTEND:
SUMMARY:A Report on Donation of Eco-Friendly Ganesh Idols to Faculty
DESCRIPTION:A Report on Donation of Eco-Friendly Ganesh Idols to Faculty
LOCATION:
END:VEVENT
END:VCALENDAR
