BEGIN:VCALENDAR
VERSION:2.0
PRODID:-//Geethanjali
CALSCALE:GREGORIAN
METHOD:PUBLISH
X-WR-CALNAME:Geethanjali
X-ORIGINAL-URL:https://gist.edu.in/gist/event/a-report-on-donation-of-computer-to-kovur-police-station/
X-WR-CALDESC:A Report on Donation of Computer to Kovur Police Station
BEGIN:VEVENT
DTSTART:
DTEND:
SUMMARY:A Report on Donation of Computer to Kovur Police Station
DESCRIPTION:A Report on Donation of Computer to Kovur Police Station
LOCATION:
END:VEVENT
END:VCALENDAR
