BEGIN:VCALENDAR
VERSION:2.0
PRODID:-//Geethanjali
CALSCALE:GREGORIAN
METHOD:PUBLISH
X-WR-CALNAME:Geethanjali
X-ORIGINAL-URL:https://gist.edu.in/gist/event/essay-writing-and-quiz-competition-on-azadi-ka-amrit-mahostav-har-ghar-tiranga/
X-WR-CALDESC:Essay Writing and Quiz competition on Azadi ka Amrit Mahostav-Har Ghar Tiranga
BEGIN:VEVENT
DTSTART:
DTEND:
SUMMARY:Essay Writing and Quiz competition on Azadi ka Amrit Mahostav-Har Ghar Tiranga
DESCRIPTION:Essay Writing and Quiz competition on Azadi ka Amrit Mahostav-Har Ghar Tiranga
LOCATION:
END:VEVENT
END:VCALENDAR
