BEGIN:VCALENDAR
VERSION:2.0
PRODID:-//Geethanjali
CALSCALE:GREGORIAN
METHOD:PUBLISH
X-WR-CALNAME:Geethanjali
X-ORIGINAL-URL:https://gist.edu.in/gist/event/a-report-on-rally-on-har-ghar-tiranga/
X-WR-CALDESC:A Report on Rally on Har Ghar Tiranga
BEGIN:VEVENT
DTSTART:
DTEND:
SUMMARY:A Report on Rally on Har Ghar Tiranga
DESCRIPTION:A Report on Rally on Har Ghar Tiranga
LOCATION:
END:VEVENT
END:VCALENDAR
