BEGIN:VCALENDAR
VERSION:2.0
PRODID:-//Geethanjali
CALSCALE:GREGORIAN
METHOD:PUBLISH
X-WR-CALNAME:Geethanjali
X-ORIGINAL-URL:https://gist.edu.in/gist/event/report-on-web-development-using-django-framework/
X-WR-CALDESC:Report on “Web Development using DJango framework”
BEGIN:VEVENT
DTSTART:
DTEND:
SUMMARY:Report on “Web Development using DJango framework”
DESCRIPTION:Report on “Web Development using DJango framework”
LOCATION:
END:VEVENT
END:VCALENDAR
