BEGIN:VCALENDAR
VERSION:2.0
PRODID:-//Geethanjali
CALSCALE:GREGORIAN
METHOD:PUBLISH
X-WR-CALNAME:Geethanjali
X-ORIGINAL-URL:https://gist.edu.in/gist/event/ap-state-council-of-higher-education-microsoft-up-skilling-programme/
X-WR-CALDESC:AP State Council of Higher Education Microsoft up skilling Programme
BEGIN:VEVENT
DTSTART:
DTEND:
SUMMARY:AP State Council of Higher Education Microsoft up skilling Programme
DESCRIPTION:  Report onAP State Council of Higher Education Microsoft up skilling Programme
LOCATION:
END:VEVENT
END:VCALENDAR
