BEGIN:VCALENDAR
VERSION:2.0
PRODID:-//Geethanjali
CALSCALE:GREGORIAN
METHOD:PUBLISH
X-WR-CALNAME:Geethanjali
X-ORIGINAL-URL:https://gist.edu.in/gist/event/industry-visited-prasara-bharathi-dooradarshan-kendratirupati/
X-WR-CALDESC:Industry Visited: Prasara Bharathi Dooradarshan Kendra:Tirupati
BEGIN:VEVENT
DTSTART:
DTEND:
SUMMARY:Industry Visited: Prasara Bharathi Dooradarshan Kendra:Tirupati
DESCRIPTION:Industry Visited: Prasara Bharathi Dooradarshan Kendra:Tirupati
LOCATION:
END:VEVENT
END:VCALENDAR
