BEGIN:VCALENDAR
VERSION:2.0
PRODID:-//Geethanjali
CALSCALE:GREGORIAN
METHOD:PUBLISH
X-WR-CALNAME:Geethanjali
X-ORIGINAL-URL:https://gist.edu.in/gist/event/technophilie-2k22/
X-WR-CALDESC:Technophilie-2k22
BEGIN:VEVENT
DTSTART:
DTEND:
SUMMARY:Technophilie-2k22
DESCRIPTION:Report onTechnophilie-2k22Organized by Departments of CSE/AI&ML
LOCATION:
END:VEVENT
END:VCALENDAR
