BEGIN:VCALENDAR
VERSION:2.0
PRODID:-//Geethanjali
CALSCALE:GREGORIAN
METHOD:PUBLISH
X-WR-CALNAME:Geethanjali
X-ORIGINAL-URL:https://gist.edu.in/gist/event/sarga-2k22a-national-level-technical-symposium-at-18th-june/
X-WR-CALDESC:SARGA-2K22A NATIONAL LEVEL TECHNICAL SYMPOSIUM at 18th June
BEGIN:VEVENT
DTSTART:
DTEND:
SUMMARY:SARGA-2K22A NATIONAL LEVEL TECHNICAL SYMPOSIUM at 18th June
DESCRIPTION:SARGA-2K22A NATIONAL LEVEL TECHNICAL SYMPOSIUM at 18th June
LOCATION:
END:VEVENT
END:VCALENDAR
