BEGIN:VCALENDAR
VERSION:2.0
PRODID:-//Geethanjali
CALSCALE:GREGORIAN
METHOD:PUBLISH
X-WR-CALNAME:Geethanjali
X-ORIGINAL-URL:https://gist.edu.in/gist/event/vision-2k22-tech-fest-held-at-gist/
X-WR-CALDESC:VISION-2K22&#8243; Tech fest held at GIST
BEGIN:VEVENT
DTSTART:
DTEND:
SUMMARY:VISION-2K22&#8243; Tech fest held at GIST
DESCRIPTION:VISION-2K22" Tech fest held at GIST
LOCATION:
END:VEVENT
END:VCALENDAR
