BEGIN:VCALENDAR
VERSION:2.0
PRODID:-//Geethanjali
CALSCALE:GREGORIAN
METHOD:PUBLISH
X-WR-CALNAME:Geethanjali
X-ORIGINAL-URL:https://gist.edu.in/gist/event/report-on-five-days-workshop-on-cyber-security/
X-WR-CALDESC:Report on Five Days workshop on: “Cyber Security”
BEGIN:VEVENT
DTSTART:
DTEND:
SUMMARY:Report on Five Days workshop on: “Cyber Security”
DESCRIPTION:Report on Five Days workshop on: “Cyber Security”
LOCATION:
END:VEVENT
END:VCALENDAR
