BEGIN:VCALENDAR
VERSION:2.0
PRODID:-//Geethanjali
CALSCALE:GREGORIAN
METHOD:PUBLISH
X-WR-CALNAME:Geethanjali
X-ORIGINAL-URL:https://gist.edu.in/gist/event/report-on-guest-lecture-on-data-analytics/
X-WR-CALDESC:Report on Guest lecture  On “Data Analytics”
BEGIN:VEVENT
DTSTART:
DTEND:
SUMMARY:Report on Guest lecture  On “Data Analytics”
DESCRIPTION:Report on Guest lecture  On “Data Analytics”
LOCATION:
END:VEVENT
END:VCALENDAR
