BEGIN:VCALENDAR
VERSION:2.0
PRODID:-//Geethanjali
CALSCALE:GREGORIAN
METHOD:PUBLISH
X-WR-CALNAME:Geethanjali
X-ORIGINAL-URL:https://gist.edu.in/gist/event/a-report-on-induction-programme-for-the-academic-year-2021-2022-held-on/
X-WR-CALDESC:A REPORT ON INDUCTION PROGRAMME FOR THE ACADEMIC YEAR 2021-2022 HELD ON
BEGIN:VEVENT
DTSTART:
DTEND:
SUMMARY:A REPORT ON INDUCTION PROGRAMME FOR THE ACADEMIC YEAR 2021-2022 HELD ON
DESCRIPTION:A REPORT ON INDUCTION PROGRAMME FOR THE ACADEMIC YEAR 2021-2022 HELD ON
LOCATION:
END:VEVENT
END:VCALENDAR
