BEGIN:VCALENDAR
VERSION:2.0
PRODID:-//Geethanjali
CALSCALE:GREGORIAN
METHOD:PUBLISH
X-WR-CALNAME:Geethanjali
X-ORIGINAL-URL:https://gist.edu.in/gist/event/national-mathematics-day-celebrations-2022/
X-WR-CALDESC:NATIONAL MATHEMATICS DAY CELEBRATIONS-2022
BEGIN:VEVENT
DTSTART:
DTEND:
SUMMARY:NATIONAL MATHEMATICS DAY CELEBRATIONS-2022
DESCRIPTION:NATIONAL MATHEMATICS DAY CELEBRATIONS-2022
LOCATION:
END:VEVENT
END:VCALENDAR
