BEGIN:VCALENDAR
VERSION:2.0
PRODID:-//Geethanjali
CALSCALE:GREGORIAN
METHOD:PUBLISH
X-WR-CALNAME:Geethanjali
X-ORIGINAL-URL:https://gist.edu.in/gist/event/a-report-on-e-conference-on-national-conference-on-emerging-trends-in-engineering-2021-10th-july-2021/
X-WR-CALDESC:E-Conference on “National Conference on Emerging Trends in Engineering- 2021” 10th July, 2021
BEGIN:VEVENT
DTSTART:
DTEND:
SUMMARY:E-Conference on “National Conference on Emerging Trends in Engineering- 2021” 10th July, 2021
DESCRIPTION:A Report on-Conference on “National Conference on Emerging Trends in Engineering- 2021” 10th July, 2021

LOCATION:
END:VEVENT
END:VCALENDAR
