BEGIN:VCALENDAR
VERSION:2.0
PRODID:-//Geethanjali
CALSCALE:GREGORIAN
METHOD:PUBLISH
X-WR-CALNAME:Geethanjali
X-ORIGINAL-URL:https://gist.edu.in/gist/event/aws-cloud-computing-solution-architect-workshop/
X-WR-CALDESC:AWS cloud computing &#8211; solution architect workshop
BEGIN:VEVENT
DTSTART:
DTEND:
SUMMARY:AWS cloud computing &#8211; solution architect workshop
DESCRIPTION:A Six Day Hands On WorkshopOn“AWS cloud computing - solution architect workshop” at GIST
LOCATION:
END:VEVENT
END:VCALENDAR
