BEGIN:VCALENDAR
VERSION:2.0
PRODID:-//Geethanjali
CALSCALE:GREGORIAN
METHOD:PUBLISH
X-WR-CALNAME:Geethanjali
X-ORIGINAL-URL:https://gist.edu.in/gist/event/workshop/
X-WR-CALDESC:WORKSHOP ON TRENDS IN MOBILE COMPUTING, INTERNET OF THINGS &#038; CYBER PHYSICAL SYSTEMS
BEGIN:VEVENT
DTSTART:20160426T000000
DTEND:20160426T000000
SUMMARY:WORKSHOP ON TRENDS IN MOBILE COMPUTING, INTERNET OF THINGS &#038; CYBER PHYSICAL SYSTEMS
DESCRIPTION:A ONE DAY WORKSHOP ON TRENDS IN MOBILE COMPUTING
LOCATION:GIST Campus
END:VEVENT
END:VCALENDAR
