BEGIN:VCALENDAR
VERSION:2.0
PRODID:-//Geethanjali
CALSCALE:GREGORIAN
METHOD:PUBLISH
X-WR-CALNAME:Geethanjali
X-ORIGINAL-URL:https://gist.edu.in/gist/event/apssdc-15daysonline-workshop-on-architectural-modelling-using-revit-software/
X-WR-CALDESC:APSSDC 15Day’sOnline Workshop On “Architectural Modelling Using REVIT ” Software
BEGIN:VEVENT
DTSTART:
DTEND:
SUMMARY:APSSDC 15Day’sOnline Workshop On “Architectural Modelling Using REVIT ” Software
DESCRIPTION:APSSDC 15Day’sOnline Workshop On “Architectural Modelling UsingREVIT ” Software
LOCATION:
END:VEVENT
END:VCALENDAR
