BEGIN:VCALENDAR
VERSION:2.0
PRODID:-//Geethanjali
CALSCALE:GREGORIAN
METHOD:PUBLISH
X-WR-CALNAME:Geethanjali
X-ORIGINAL-URL:https://gist.edu.in/gist/event/field-visit-for-the-iv-b-tech-a-b-students-of-civil-on-20-12-2021-21-12-2021/
X-WR-CALDESC:Field Visit for the IV B.Tech A&#038; B Students of Civil on 20-12-2021 &#038; 21-12-2021
BEGIN:VEVENT
DTSTART:
DTEND:
SUMMARY:Field Visit for the IV B.Tech A&#038; B Students of Civil on 20-12-2021 &#038; 21-12-2021
DESCRIPTION:Field Visit for the IV B.Tech A& B Students of Civil on 20-12-2021 & 21-12-2021 
LOCATION:
END:VEVENT
END:VCALENDAR
