BEGIN:VCALENDAR
VERSION:2.0
PRODID:-//Geethanjali
CALSCALE:GREGORIAN
METHOD:PUBLISH
X-WR-CALNAME:Geethanjali
X-ORIGINAL-URL:https://gist.edu.in/gist/event/report-on-inaugural-students-association-voice-2k21/
X-WR-CALDESC:Report on Inaugural Student’s Association VOICE-2K21
BEGIN:VEVENT
DTSTART:
DTEND:
SUMMARY:Report on Inaugural Student’s Association VOICE-2K21
DESCRIPTION:Report on Inaugural Student’s Association VOICE-2K21
LOCATION:
END:VEVENT
END:VCALENDAR
