BEGIN:VCALENDAR
VERSION:2.0
PRODID:-//Geethanjali
CALSCALE:GREGORIAN
METHOD:PUBLISH
X-WR-CALNAME:Geethanjali
X-ORIGINAL-URL:https://gist.edu.in/gist/event/a-report-on-one-week-workshop-on-product-design-drafting-by-catia/
X-WR-CALDESC:A Report On One Week  Workshop on &#8220;Product Design &#038; Drafting by CATIA&#8221;
BEGIN:VEVENT
DTSTART:
DTEND:
SUMMARY:A Report On One Week  Workshop on &#8220;Product Design &#038; Drafting by CATIA&#8221;
DESCRIPTION:A Report On One Week  Workshop
on
"Product Design & Drafting by CATIA"
LOCATION:
END:VEVENT
END:VCALENDAR
