BEGIN:VCALENDAR
VERSION:2.0
PRODID:-//Geethanjali
CALSCALE:GREGORIAN
METHOD:PUBLISH
X-WR-CALNAME:Geethanjali
X-ORIGINAL-URL:https://gist.edu.in/gist/event/a-one-week-national-level-online-faculty-development-program-on-recent-trends-in-electrical-engineering-2/
X-WR-CALDESC:A one week national level online faculty development program on recent trends  In electrical engineering
BEGIN:VEVENT
DTSTART:
DTEND:
SUMMARY:A one week national level online faculty development program on recent trends  In electrical engineering
DESCRIPTION:A one week national level online faculty development program on recent trends 
In electrical engineering


LOCATION:
END:VEVENT
END:VCALENDAR
