BEGIN:VCALENDAR
VERSION:2.0
PRODID:-//Geethanjali
CALSCALE:GREGORIAN
METHOD:PUBLISH
X-WR-CALNAME:Geethanjali
X-ORIGINAL-URL:https://gist.edu.in/gist/event/ncatcsit-2021/
X-WR-CALDESC:NCATCSIT-2021
BEGIN:VEVENT
DTSTART:
DTEND:
SUMMARY:NCATCSIT-2021
DESCRIPTION:Advanced Trends In Computer Science And Information Technology (NCATCSIT-2021)
LOCATION:
END:VEVENT
END:VCALENDAR
