BEGIN:VCALENDAR
VERSION:2.0
PRODID:-//Geethanjali
CALSCALE:GREGORIAN
METHOD:PUBLISH
X-WR-CALNAME:Geethanjali
X-ORIGINAL-URL:https://gist.edu.in/gist/event/a-national-level-virtualtechnical-symposiumsarga-2k21-at-17th-july-2021/
X-WR-CALDESC:A National level virtualtechnical symposium“Sarga-2k21” at 17th July, 2021
BEGIN:VEVENT
DTSTART:
DTEND:
SUMMARY:A National level virtualtechnical symposium“Sarga-2k21” at 17th July, 2021
DESCRIPTION:A National level virtualtechnical symposium“Sarga-2k21” at 17th July, 2021
LOCATION:
END:VEVENT
END:VCALENDAR
