BEGIN:VCALENDAR
VERSION:2.0
PRODID:-//Geethanjali
CALSCALE:GREGORIAN
METHOD:PUBLISH
X-WR-CALNAME:Geethanjali
X-ORIGINAL-URL:https://gist.edu.in/gist/event/report-on-aicte-iste-refresher-induction-programphase-iii-online/
X-WR-CALDESC:Report on AICTE/ISTE Refresher/Induction ProgramPhase-III (Online)
BEGIN:VEVENT
DTSTART:
DTEND:
SUMMARY:Report on AICTE/ISTE Refresher/Induction ProgramPhase-III (Online)
DESCRIPTION:Report on AICTE/ISTE Refresher/Induction ProgramPhase-II (Online)
LOCATION:
END:VEVENT
END:VCALENDAR
