BEGIN:VCALENDAR
VERSION:2.0
PRODID:-//Geethanjali
CALSCALE:GREGORIAN
METHOD:PUBLISH
X-WR-CALNAME:Geethanjali
X-ORIGINAL-URL:https://gist.edu.in/gist/event/report-on-5-day-online-work-shop-on-big-data-using-hadoop/
X-WR-CALDESC:Report  on 5-Day online Work Shop on “Big Data using Hadoop”
BEGIN:VEVENT
DTSTART:
DTEND:
SUMMARY:Report  on 5-Day online Work Shop on “Big Data using Hadoop”
DESCRIPTION:Report  on 5-Day online WorkShop on “Big Data using Hadoop”
LOCATION:
END:VEVENT
END:VCALENDAR
