BEGIN:VCALENDAR
VERSION:2.0
PRODID:-//Geethanjali
CALSCALE:GREGORIAN
METHOD:PUBLISH
X-WR-CALNAME:Geethanjali
X-ORIGINAL-URL:https://gist.edu.in/gist/event/report-on-one-day-power-seminar-on-emotional-intelligence/
X-WR-CALDESC:Report on One-Day Power Seminar On “Emotional Intelligence”
BEGIN:VEVENT
DTSTART:
DTEND:
SUMMARY:Report on One-Day Power Seminar On “Emotional Intelligence”
DESCRIPTION:Report on One-Day Power Seminar On “Emotional Intelligence”
LOCATION:
END:VEVENT
END:VCALENDAR
