BEGIN:VCALENDAR
VERSION:2.0
PRODID:-//Geethanjali
CALSCALE:GREGORIAN
METHOD:PUBLISH
X-WR-CALNAME:Geethanjali
X-ORIGINAL-URL:https://gist.edu.in/gist/event/a-two-day-national-mathematics-day-celebrations-organised-by-s-h-at-gist/
X-WR-CALDESC:A Two-Day National Mathematics Day Celebrations Organised by S &#038; H at GIST
BEGIN:VEVENT
DTSTART:
DTEND:
SUMMARY:A Two-Day National Mathematics Day Celebrations Organised by S &#038; H at GIST
DESCRIPTION:A Two-Day National Mathematics Day Celebrations Organised by S & H at GIST
LOCATION:
END:VEVENT
END:VCALENDAR
