BEGIN:VCALENDAR
VERSION:2.0
PRODID:-//Geethanjali
CALSCALE:GREGORIAN
METHOD:PUBLISH
X-WR-CALNAME:Geethanjali
X-ORIGINAL-URL:https://gist.edu.in/gist/event/a-report-on-one-week-online-workshop-on-product-design-drafting-by-solid-edge/
X-WR-CALDESC:A Report On Three Week Online Workshop on &#8220;Product Design &#038; Drafting by SOLID EDGE&#8221;
BEGIN:VEVENT
DTSTART:
DTEND:
SUMMARY:A Report On Three Week Online Workshop on &#8220;Product Design &#038; Drafting by SOLID EDGE&#8221;
DESCRIPTION:A Report On Three Week Online Workshop
on
"Product Design & Drafting by SOLID EDGE"

LOCATION:
END:VEVENT
END:VCALENDAR
